BEGIN:VCALENDAR
VERSION:2.0
PRODID:-//Tidningen Automation - ECPv6.15.20//NONSGML v1.0//EN
CALSCALE:GREGORIAN
METHOD:PUBLISH
X-WR-CALNAME:Tidningen Automation
X-ORIGINAL-URL:https://automation.se
X-WR-CALDESC:Händelser för Tidningen Automation
REFRESH-INTERVAL;VALUE=DURATION:PT1H
X-Robots-Tag:noindex
X-PUBLISHED-TTL:PT1H
BEGIN:VTIMEZONE
TZID:Europe/Stockholm
BEGIN:DAYLIGHT
TZOFFSETFROM:+0100
TZOFFSETTO:+0200
TZNAME:CEST
DTSTART:20230326T010000
END:DAYLIGHT
BEGIN:STANDARD
TZOFFSETFROM:+0200
TZOFFSETTO:+0100
TZNAME:CET
DTSTART:20231029T010000
END:STANDARD
BEGIN:DAYLIGHT
TZOFFSETFROM:+0100
TZOFFSETTO:+0200
TZNAME:CEST
DTSTART:20240331T010000
END:DAYLIGHT
BEGIN:STANDARD
TZOFFSETFROM:+0200
TZOFFSETTO:+0100
TZNAME:CET
DTSTART:20241027T010000
END:STANDARD
BEGIN:DAYLIGHT
TZOFFSETFROM:+0100
TZOFFSETTO:+0200
TZNAME:CEST
DTSTART:20250330T010000
END:DAYLIGHT
BEGIN:STANDARD
TZOFFSETFROM:+0200
TZOFFSETTO:+0100
TZNAME:CET
DTSTART:20251026T010000
END:STANDARD
END:VTIMEZONE
BEGIN:VEVENT
DTSTART;TZID=Europe/Stockholm:20241008T080000
DTEND;TZID=Europe/Stockholm:20241010T170000
DTSTAMP:20260426T013253
CREATED:20220823T130924Z
LAST-MODIFIED:20230428T082730Z
UID:10000082-1728374400-1728579600@automation.se
SUMMARY:Nordic Food Industry
DESCRIPTION:Livsmedelsindustrin är Sveriges tredje största industrigren\, men innovationsförmågan rankas först på fjortonde plats. Det finns enorm potential att tillvarata inom livsmedelsproduktionen i Sverige – och i skenet av det uppstod Nordic Food Industry. \n \n2022 gör Nordic Food Industry premiär på Svenska Mässan. Med RISE som innovationspartner är Nordic Food Industry mötesplatsen för företag och organisationer som utvecklar framtidens smarta och hållbara industri. Här visas ny teknik\, nya material\, innovativa lösningar\, produkter och tjänster för en hållbar livsmedelsproduktion. Här har du möjlighet att möta dina kunder\, hitta nya samarbeten och utbyta kunskap med branschkollegor.
URL:https://automation.se/evenemang/nordic-food-industry/
LOCATION:Svenska Mässan\, Mässans gata/ Korsvägen\, Göteborg\, Sverige
CATEGORIES:Svenska Mässan
ATTACH;FMTTYPE=image/png:https://automation.se/wp-content/uploads/nordicfoodindustry-logo.png
ORGANIZER;CN="Svenska M%C3%A4ssan":MAILTO:info@svenskamassan.se
END:VEVENT
END:VCALENDAR