BEGIN:VCALENDAR
VERSION:2.0
PRODID:-//Tidningen Automation - ECPv6.15.20//NONSGML v1.0//EN
CALSCALE:GREGORIAN
METHOD:PUBLISH
X-WR-CALNAME:Tidningen Automation
X-ORIGINAL-URL:https://automation.se
X-WR-CALDESC:Händelser för Tidningen Automation
REFRESH-INTERVAL;VALUE=DURATION:PT1H
X-Robots-Tag:noindex
X-PUBLISHED-TTL:PT1H
BEGIN:VTIMEZONE
TZID:Europe/Stockholm
BEGIN:DAYLIGHT
TZOFFSETFROM:+0100
TZOFFSETTO:+0200
TZNAME:CEST
DTSTART:20250330T010000
END:DAYLIGHT
BEGIN:STANDARD
TZOFFSETFROM:+0200
TZOFFSETTO:+0100
TZNAME:CET
DTSTART:20251026T010000
END:STANDARD
BEGIN:DAYLIGHT
TZOFFSETFROM:+0100
TZOFFSETTO:+0200
TZNAME:CEST
DTSTART:20260329T010000
END:DAYLIGHT
BEGIN:STANDARD
TZOFFSETFROM:+0200
TZOFFSETTO:+0100
TZNAME:CET
DTSTART:20261025T010000
END:STANDARD
BEGIN:DAYLIGHT
TZOFFSETFROM:+0100
TZOFFSETTO:+0200
TZNAME:CEST
DTSTART:20270328T010000
END:DAYLIGHT
BEGIN:STANDARD
TZOFFSETFROM:+0200
TZOFFSETTO:+0100
TZNAME:CET
DTSTART:20271031T010000
END:STANDARD
END:VTIMEZONE
BEGIN:VEVENT
DTSTART;TZID=Europe/Stockholm:20261020T080000
DTEND;TZID=Europe/Stockholm:20261022T170000
DTSTAMP:20260424T065937
CREATED:20211031T100716Z
LAST-MODIFIED:20250815T085038Z
UID:10000067-1792483200-1792688400@automation.se
SUMMARY:Processteknik
DESCRIPTION:Det pågår en omfattande omställning av industrin där företagen söker allt effektivare och mer hållbara lösningar. ProcessTeknik stöttar en positiv utveckling genom att erbjuda en arena för omvärldsanalys\, kunskapsutbyte och exponering av framgångsrika exempel. \n \nProcessTeknik är mötesplatsen för företag och organisationer som utvecklar framtidens smarta och hållbara industri. Här visas produktnyheter\, energieffektiva system och innovativa processtekniska lösningar. Här har du möjlighet att möta dina kunder\, hitta nya samarbeten och utbyta kunskap med branschkollegor.
URL:https://automation.se/evenemang/processteknik/
LOCATION:Svenska Mässan\, Mässans gata/ Korsvägen\, Göteborg\, Sverige
CATEGORIES:Svenska Mässan
ATTACH;FMTTYPE=image/png:https://automation.se/wp-content/uploads/processteknik-mellanbla.png
ORGANIZER;CN="Svenska M%C3%A4ssan":MAILTO:info@svenskamassan.se
END:VEVENT
END:VCALENDAR