BEGIN:VCALENDAR
VERSION:2.0
PRODID:-//Tidningen Automation - ECPv6.15.20//NONSGML v1.0//EN
CALSCALE:GREGORIAN
METHOD:PUBLISH
X-WR-CALNAME:Tidningen Automation
X-ORIGINAL-URL:https://automation.se
X-WR-CALDESC:Händelser för Tidningen Automation
REFRESH-INTERVAL;VALUE=DURATION:PT1H
X-Robots-Tag:noindex
X-PUBLISHED-TTL:PT1H
BEGIN:VTIMEZONE
TZID:Europe/Stockholm
BEGIN:DAYLIGHT
TZOFFSETFROM:+0100
TZOFFSETTO:+0200
TZNAME:CEST
DTSTART:20250330T010000
END:DAYLIGHT
BEGIN:STANDARD
TZOFFSETFROM:+0200
TZOFFSETTO:+0100
TZNAME:CET
DTSTART:20251026T010000
END:STANDARD
BEGIN:DAYLIGHT
TZOFFSETFROM:+0100
TZOFFSETTO:+0200
TZNAME:CEST
DTSTART:20260329T010000
END:DAYLIGHT
BEGIN:STANDARD
TZOFFSETFROM:+0200
TZOFFSETTO:+0100
TZNAME:CET
DTSTART:20261025T010000
END:STANDARD
BEGIN:DAYLIGHT
TZOFFSETFROM:+0100
TZOFFSETTO:+0200
TZNAME:CEST
DTSTART:20270328T010000
END:DAYLIGHT
BEGIN:STANDARD
TZOFFSETFROM:+0200
TZOFFSETTO:+0100
TZNAME:CET
DTSTART:20271031T010000
END:STANDARD
END:VTIMEZONE
BEGIN:VEVENT
DTSTART;TZID=Europe/Stockholm:20261118T090000
DTEND;TZID=Europe/Stockholm:20261119T160000
DTSTAMP:20260421T152504
CREATED:20211031T090521Z
LAST-MODIFIED:20250813T100603Z
UID:10000052-1794992400-1795104000@automation.se
SUMMARY:EURO EXPO Örebro
DESCRIPTION:EURO EXPO’s affärsidé sedan 1997 är att arbeta med rationella möten mellan köpare och säljare inom tillverkningsindustrin.  \n \nVi hjälper företag att bygga upp affärsrelationer på såväl kort som lång sikt. För att åstadkomma detta bygger vi regionala IndustriMässor nära er kundkrets. De besökande företagen behöver bara avsätta några timmar för att kunna möta er på EURO EXPO’s IndustriMässa. \nTill industrimässorna bjuder vi in beslutsfattare med el-\, drifts-\, produktions-\, underhålls-\, konstruktions- och inköpsansvar samt skyddsombud på regionens tillverkande företag. Genom att ställa ut på våra regionala/lokala industrimässor når ert företag ut till rätt beslutsfattare på ett kostnadseffektivt sätt.  \nDu väljer själv vilka orter och tidpunkter som bäst passar för ditt företag att nå kunder  på olika platser i landet.
URL:https://automation.se/evenemang/euro-expo-orebro/
LOCATION:Conventum Arena\, Fabriksgatan 26-28\, ÖREBRO\, Sverige
CATEGORIES:EURO EXPO
ATTACH;FMTTYPE=image/png:https://automation.se/wp-content/uploads/skarmavbild-2021-10-28-kl.-14.28.08.png
END:VEVENT
END:VCALENDAR