BEGIN:VCALENDAR
VERSION:2.0
PRODID:-//Tidningen Automation - ECPv6.15.20//NONSGML v1.0//EN
CALSCALE:GREGORIAN
METHOD:PUBLISH
X-WR-CALNAME:Tidningen Automation
X-ORIGINAL-URL:https://automation.se
X-WR-CALDESC:Händelser för Tidningen Automation
REFRESH-INTERVAL;VALUE=DURATION:PT1H
X-Robots-Tag:noindex
X-PUBLISHED-TTL:PT1H
BEGIN:VTIMEZONE
TZID:Europe/Stockholm
BEGIN:DAYLIGHT
TZOFFSETFROM:+0100
TZOFFSETTO:+0200
TZNAME:CEST
DTSTART:20260329T010000
END:DAYLIGHT
BEGIN:STANDARD
TZOFFSETFROM:+0200
TZOFFSETTO:+0100
TZNAME:CET
DTSTART:20261025T010000
END:STANDARD
BEGIN:DAYLIGHT
TZOFFSETFROM:+0100
TZOFFSETTO:+0200
TZNAME:CEST
DTSTART:20270328T010000
END:DAYLIGHT
BEGIN:STANDARD
TZOFFSETFROM:+0200
TZOFFSETTO:+0100
TZNAME:CET
DTSTART:20271031T010000
END:STANDARD
BEGIN:DAYLIGHT
TZOFFSETFROM:+0100
TZOFFSETTO:+0200
TZNAME:CEST
DTSTART:20280326T010000
END:DAYLIGHT
BEGIN:STANDARD
TZOFFSETFROM:+0200
TZOFFSETTO:+0100
TZNAME:CET
DTSTART:20281029T010000
END:STANDARD
END:VTIMEZONE
BEGIN:VEVENT
DTSTART;TZID=Europe/Stockholm:20270622T080000
DTEND;TZID=Europe/Stockholm:20270625T170000
DTSTAMP:20260419T142912
CREATED:20211031T105433Z
LAST-MODIFIED:20260319T153328Z
UID:10000075-1813651200-1813942800@automation.se
SUMMARY:Automatica
DESCRIPTION:The Leading Exhibition for Smart Automation and Robotics \n \nAs the Leading Exhibition for Smart Automation and Robotics\, automatica features the world’s largest range of industrial and service robotics\, assembly solutions\, machine vision systems and components. It gives companies from all relevant branches of industry access to innovations\, knowledge and trends with a great deal of business relevance. \nAs the digital shift continues\, automatic ensures market transparency and provides orientation with a clear objective: Being able to manufacture higher-quality products with even greater efficiency.
URL:https://automation.se/evenemang/automatica/
LOCATION:Messe München GmbH\, Messegelände\, München\, 81823
ATTACH;FMTTYPE=image/png:https://automation.se/wp-content/uploads/logotyper/skarmavbild-2021-10-31-kl.-11.50.33.png
END:VEVENT
END:VCALENDAR